BEGIN:VCALENDAR
VERSION:2.0
PRODID:-//ChamberMaster//Event Calendar 2.0//EN
METHOD:PUBLISH
X-PUBLISHED-TTL:P3D
REFRESH-INTERVAL:P3D
CALSCALE:GREGORIAN
BEGIN:VEVENT
DTSTART:20170228T173000Z
DTEND:20170228T190000Z
X-MICROSOFT-CDO-ALLDAYEVENT:FALSE
SUMMARY:W.O.W. Make 2017 the Year of YOU!
DESCRIPTION:As women\, we give so much of ourselves to others...to our jobs\, our families\, our communities.  You name it.  In 2017\, WOW (Working Ottawa Women) encourages you to set aside time for yourself\, guilt free.\n\nWe've lined up a variety of personal and professional events for the year\, with a goal of building a stronger\, more phenomenal version of yourself.  To help kick off the "Year of YOU"\, we've prepared a women's wellness seminar with tips on nutrition\, counting calories\, and more!
X-ALT-DESC;FMTTYPE=text/html:As women\, we give so much of ourselves to others...to our jobs\, our families\, our communities. &nbsp\;You name it. &nbsp\;In 2017\, WOW (Working Ottawa Women) encourages you to set aside time for yourself\, guilt free.<br />\nWe&#39\;ve lined up a variety of personal and professional events for the year\, with a goal of building a stronger\, more phenomenal version of yourself. &nbsp\;To help kick off the &quot\;Year of YOU&quot\;\, we&#39\;ve prepared a women&#39\;s wellness seminar with tips on nutrition\, counting calories\, and more!
LOCATION:OSF Saint Elizabeth Medical Center\, Meeting Room 1
UID:e.43.4971
SEQUENCE:3
DTSTAMP:20260422T235128Z
URL:https://ottawa-nova25.preview.gochambermaster.com/events/details/w-o-w-make-2017-the-year-of-you-4971
END:VEVENT

END:VCALENDAR
