BEGIN:VCALENDAR
VERSION:2.0
PRODID:-//ChamberMaster//Event Calendar 2.0//EN
METHOD:PUBLISH
X-PUBLISHED-TTL:P3D
REFRESH-INTERVAL:P3D
CALSCALE:GREGORIAN
BEGIN:VEVENT
DTSTART:20171019T163000Z
DTEND:20171019T183000Z
X-MICROSOFT-CDO-ALLDAYEVENT:FALSE
SUMMARY:State of the City Address
DESCRIPTION:
X-ALT-DESC;FMTTYPE=text/html:
LOCATION:
UID:e.43.4952
SEQUENCE:3
DTSTAMP:20260421T210208Z
URL:https://ottawa-nova25.preview.gochambermaster.com/events/details/state-of-the-city-address-4952
END:VEVENT

END:VCALENDAR
