BEGIN:VCALENDAR
VERSION:2.0
PRODID:-//ChamberMaster//Event Calendar 2.0//EN
METHOD:PUBLISH
X-PUBLISHED-TTL:P3D
REFRESH-INTERVAL:P3D
CALSCALE:GREGORIAN
BEGIN:VEVENT
DTSTART:20161027T220000Z
DTEND:20161028T000000Z
X-MICROSOFT-CDO-ALLDAYEVENT:FALSE
SUMMARY:Ribbon Cutting/Open House at Correct Harwood
DESCRIPTION:
X-ALT-DESC;FMTTYPE=text/html:
LOCATION:
UID:e.43.4936
SEQUENCE:3
DTSTAMP:20260423T074118Z
URL:https://ottawa-nova25.preview.gochambermaster.com/events/details/ribbon-cutting-open-house-at-correct-harwood-4936
END:VEVENT

END:VCALENDAR
