BEGIN:VCALENDAR
VERSION:2.0
PRODID:-//ChamberMaster//Event Calendar 2.0//EN
METHOD:PUBLISH
X-PUBLISHED-TTL:P3D
REFRESH-INTERVAL:P3D
CALSCALE:GREGORIAN
BEGIN:VEVENT
DTSTART:20181102T180000Z
DTEND:20181102T210000Z
X-MICROSOFT-CDO-ALLDAYEVENT:FALSE
SUMMARY:Ribbon Cutting/Grand Opening at Ottawa Visitors Center
DESCRIPTION:Ribbon Cutting 1:00  pm\n\nGrand Opening 1:00 pm - 4:00 pm
X-ALT-DESC;FMTTYPE=text/html:Ribbon Cutting 1:00&nbsp\; pm<br />\nGrand Opening 1:00 pm - 4:00 pm
LOCATION:Ottawa Visitors Center
UID:e.43.5464
SEQUENCE:3
DTSTAMP:20260420T034036Z
URL:https://ottawa-nova25.preview.gochambermaster.com/events/details/ribbon-cutting-grand-opening-at-ottawa-visitors-center-5464
END:VEVENT

END:VCALENDAR
