BEGIN:VCALENDAR
VERSION:2.0
PRODID:-//ChamberMaster//Event Calendar 2.0//EN
METHOD:PUBLISH
X-PUBLISHED-TTL:P3D
REFRESH-INTERVAL:P3D
CALSCALE:GREGORIAN
BEGIN:VEVENT
DTSTART:20141113T180000Z
DTEND:20141113T190000Z
X-MICROSOFT-CDO-ALLDAYEVENT:FALSE
SUMMARY:Public Policy Team
DESCRIPTION:
X-ALT-DESC;FMTTYPE=text/html:
LOCATION:
UID:e.43.4131
SEQUENCE:3
DTSTAMP:20260425T102449Z
URL:https://ottawa-nova25.preview.gochambermaster.com/events/details/public-policy-team-11-13-2014-4131
END:VEVENT

END:VCALENDAR
