BEGIN:VCALENDAR
VERSION:2.0
PRODID:-//ChamberMaster//Event Calendar 2.0//EN
METHOD:PUBLISH
X-PUBLISHED-TTL:P3D
REFRESH-INTERVAL:P3D
CALSCALE:GREGORIAN
BEGIN:VEVENT
DTSTART:20140606T210000Z
DTEND:20140606T230000Z
X-MICROSOFT-CDO-ALLDAYEVENT:FALSE
SUMMARY:Ottawa Christian Academy
DESCRIPTION:Open House\, Spaghetti Supper\, and Registration for K4 - K5 and Grades 1-4. Abeka Curriculum & Member of Christian Educators Association International. School starts Sept. 2nd\, 2014. Come visit our new facilities and enjoy dinner. A Common Core symposium\, starting at 6:30PM\, with Joy Pullman will follow this event.
X-ALT-DESC;FMTTYPE=text/html:Open House\, Spaghetti Supper\, and Registration for K4 - K5 and Grades 1-4. Abeka Curriculum &amp\; Member of Christian Educators Association International. School starts Sept. 2nd\, 2014. Come visit our new facilities and enjoy dinner. A Common Core symposium\, starting at 6:30PM\, with Joy Pullman will follow this event.
LOCATION:Heritage Christian Center 900 Hitt St. (Rt. 71) Ottawa\, IL. 61350
UID:e.43.4155
SEQUENCE:3
DTSTAMP:20260426T004959Z
URL:https://ottawa-nova25.preview.gochambermaster.com/events/details/ottawa-christian-academy-06-06-2014-4155
END:VEVENT

END:VCALENDAR
