BEGIN:VCALENDAR
VERSION:2.0
PRODID:-//ChamberMaster//Event Calendar 2.0//EN
METHOD:PUBLISH
X-PUBLISHED-TTL:P3D
REFRESH-INTERVAL:P3D
CALSCALE:GREGORIAN
BEGIN:VEVENT
DTSTART:20180519T130000Z
DTEND:20180519T173000Z
X-MICROSOFT-CDO-ALLDAYEVENT:FALSE
SUMMARY:Opening Day of Farmers Market
DESCRIPTION:
X-ALT-DESC;FMTTYPE=text/html:
LOCATION:
UID:e.43.5043
SEQUENCE:3
DTSTAMP:20260421T033552Z
URL:https://ottawa-nova25.preview.gochambermaster.com/events/details/opening-day-of-farmers-market-5043
END:VEVENT

END:VCALENDAR
