BEGIN:VCALENDAR
VERSION:2.0
PRODID:-//ChamberMaster//Event Calendar 2.0//EN
METHOD:PUBLISH
X-PUBLISHED-TTL:P3D
REFRESH-INTERVAL:P3D
CALSCALE:GREGORIAN
BEGIN:VEVENT
DTSTART;VALUE=DATE:20180714
DTEND;VALUE=DATE:20180715
TRANSP:TRANSPARENT
X-MICROSOFT-CDO-ALLDAYEVENT:TRUE
SUMMARY:ONYX 5k Scholarship Scoot
DESCRIPTION:ONYX began hosting a scholarship competition in 2014 and has granted funds to an Ottawa Township High School and Marquette Academy student each year since.  To help fund the program\, ONYX hosts an annual 5K run called the Scholarship Scoot.  Proceeds from the event contribute to the following year's competition.\n\nThe Scholarship Scoot is a great way for ONYX to work with our community and help our youth continue to succeed!  Each year our goal is to grow this event and raise the bar for our scholarship goals.  With the combine efforts of local individuals and businesses\, the Scholarship Scoot has continued to grant over $1\,000 to each student that wins our essay contest.  The ONYX Scholarship commityee reads through each essay until a winner from each school has been selected and the student is awarded in April at their ceremonies.
X-ALT-DESC;FMTTYPE=text/html:ONYX began hosting a scholarship competition in 2014 and has granted funds to an Ottawa Township High School and Marquette Academy student each year since.&nbsp\; To help fund the program\, ONYX hosts an annual 5K run called the Scholarship Scoot.&nbsp\; Proceeds from the event contribute to the following year's competition.<br>\nThe Scholarship Scoot is a great way for ONYX to work with our community and help our youth continue to succeed!&nbsp\; Each year our goal is to grow this event and raise the bar for our scholarship goals.&nbsp\; With the combine efforts of local individuals and businesses\, the Scholarship Scoot has continued to grant over $1\,000 to each student that wins our essay contest.&nbsp\; The ONYX Scholarship commityee reads through each essay until a winner from each school has been selected and the student is awarded in April at their ceremonies.
LOCATION:Heritage Harbor Ottawa\, IL
UID:e.43.5248
SEQUENCE:3
DTSTAMP:20260421T002951Z
URL:https://ottawa-nova25.preview.gochambermaster.com/events/details/onyx-5k-scholarship-scoot-5248
END:VEVENT

END:VCALENDAR
