BEGIN:VCALENDAR
VERSION:2.0
PRODID:-//ChamberMaster//Event Calendar 2.0//EN
METHOD:PUBLISH
X-PUBLISHED-TTL:P3D
REFRESH-INTERVAL:P3D
CALSCALE:GREGORIAN
BEGIN:VEVENT
DTSTART:20160524T163000Z
DTEND:20160524T183000Z
X-MICROSOFT-CDO-ALLDAYEVENT:FALSE
SUMMARY:New Wage and Hour Regulation seminar
DESCRIPTION:
X-ALT-DESC;FMTTYPE=text/html:
LOCATION:
UID:e.43.4923
SEQUENCE:3
DTSTAMP:20260423T211836Z
URL:https://ottawa-nova25.preview.gochambermaster.com/events/details/new-wage-and-hour-regulation-seminar-05-24-2016-4923
END:VEVENT

END:VCALENDAR
