BEGIN:VCALENDAR
VERSION:2.0
PRODID:-//ChamberMaster//Event Calendar 2.0//EN
METHOD:PUBLISH
X-PUBLISHED-TTL:P3D
REFRESH-INTERVAL:P3D
CALSCALE:GREGORIAN
BEGIN:VEVENT
DTSTART:20150929T133000Z
DTEND:20150929T150000Z
X-MICROSOFT-CDO-ALLDAYEVENT:FALSE
SUMMARY:Multimedia Marketing Secrets for small-medium businesses
DESCRIPTION:Join Mike Blinder\, author and one of the nation's leading digital marketing experts with over 60\,000 small and medium size businesses world-wide using one of his online marketing solutions\, as he shows you how to effectively advertise in today's digital format.\n\n\n\nAttendees will learn:\n\n	What it takes to ensure success in digital advertising\n	How to raise your results on Google & Yahoo to get found by those who are searching for your product or service\n	How to combine\, web\, social media and mobile for increased results
X-ALT-DESC;FMTTYPE=text/html:Join Mike Blinder\, author and one of the nation&#39\;s leading digital marketing experts with over 60\,000 small and medium size businesses world-wide using one of his online marketing solutions\, as he shows you how to effectively advertise in today&#39\;s digital format.<br />\n<br />\nAttendees will learn:\n<ul>\n	<li>What it takes to ensure success in digital advertising</li>\n	<li>How to raise your results on Google &amp\; Yahoo to get found by those who are searching for your product or service</li>\n	<li>How to combine\, web\, social media and mobile for increased results</li>\n</ul>\n
LOCATION:807 Building 807 LaSalle Street\, Ottawa Above Jeremiah Joe Coffee
UID:e.43.4223
SEQUENCE:3
DTSTAMP:20260424T195458Z
URL:https://ottawa-nova25.preview.gochambermaster.com/events/details/multimedia-marketing-secrets-for-small-medium-businesses-09-29-2015-4223
END:VEVENT

END:VCALENDAR
