BEGIN:VCALENDAR
VERSION:2.0
PRODID:-//ChamberMaster//Event Calendar 2.0//EN
METHOD:PUBLISH
X-PUBLISHED-TTL:P3D
REFRESH-INTERVAL:P3D
CALSCALE:GREGORIAN
BEGIN:VEVENT
DTSTART:20151119T170000Z
DTEND:20151119T210000Z
X-MICROSOFT-CDO-ALLDAYEVENT:FALSE
SUMMARY:LaSalle County Farm Bureau Blood Drive
DESCRIPTION:LCFB is hosting a blood drive on November 19th from 11 a.m. to 3 p.m. at our office. Please call 815-433-0371 to reserve your spot today! Walk-ins are welcome!
X-ALT-DESC;FMTTYPE=text/html:LCFB is hosting a blood drive on November 19th from 11 a.m. to 3 p.m. at our office. Please call 815-433-0371 to reserve your spot today! Walk-ins are welcome!
LOCATION:LaSalle County Farm Bureau office 4201 N. Columbus Street\, Ottawa\, Il
UID:e.43.4227
SEQUENCE:3
DTSTAMP:20260424T131645Z
URL:https://ottawa-nova25.preview.gochambermaster.com/events/details/lasalle-county-farm-bureau-blood-drive-11-19-2015-4227
END:VEVENT

END:VCALENDAR
