BEGIN:VCALENDAR
VERSION:2.0
PRODID:-//ChamberMaster//Event Calendar 2.0//EN
METHOD:PUBLISH
X-PUBLISHED-TTL:P3D
REFRESH-INTERVAL:P3D
CALSCALE:GREGORIAN
BEGIN:VEVENT
DTSTART:20140828T220000Z
DTEND:20140829T000000Z
X-MICROSOFT-CDO-ALLDAYEVENT:FALSE
SUMMARY:Habitat for Humanity Open House
DESCRIPTION:Habitat for Humanity of LaSalle\, Bureau & Putnam Counties\n\nOpen House\n\nThursday\, August 28th\n\n 5:00 pm - 7:00 pm\n\n1002 Hall Street\, Streator
X-ALT-DESC;FMTTYPE=text/html:Habitat for Humanity of LaSalle\, Bureau &amp\; Putnam Counties<br />\nOpen House<br />\nThursday\, August 28th<br />\n&#8203\;5:00 pm - 7:00 pm<br />\n1002 Hall Street\, Streator<br />\n&nbsp\;
LOCATION:1002 Hall Street Streator
UID:e.43.4166
SEQUENCE:3
DTSTAMP:20260425T153606Z
URL:https://ottawa-nova25.preview.gochambermaster.com/events/details/habitat-for-humanity-open-house-08-28-2014-4166
END:VEVENT

END:VCALENDAR
