BEGIN:VCALENDAR
VERSION:2.0
PRODID:-//ChamberMaster//Event Calendar 2.0//EN
METHOD:PUBLISH
X-PUBLISHED-TTL:P3D
REFRESH-INTERVAL:P3D
CALSCALE:GREGORIAN
BEGIN:VEVENT
DTSTART:20161125T230000Z
DTEND:20161126T020000Z
X-MICROSOFT-CDO-ALLDAYEVENT:FALSE
SUMMARY:First Festival of Trees
DESCRIPTION:Charitable event to benefit Illinois Valley PADS.\n\nSilent Auction and raffle on Christmas trees\, wreaths\, and other holiday items for a good cause!  Enjoy refreshments and entertainment from the Marquette and Ottawa High School Choirs.\n\nAll trees and decorations are up for auction/raffle have been donated by local businesses.
X-ALT-DESC;FMTTYPE=text/html:Charitable event to benefit Illinois Valley PADS.<br />\nSilent Auction and raffle on Christmas trees\, wreaths\, and other holiday items for a good cause! &nbsp\;Enjoy refreshments and entertainment from the Marquette and Ottawa High School Choirs.<br />\nAll trees and decorations are up for auction/raffle have been donated by local businesses.
LOCATION:The First National Bank of Ottawa 701 LaSalle Street
UID:e.43.4941
SEQUENCE:3
DTSTAMP:20260423T074035Z
URL:https://ottawa-nova25.preview.gochambermaster.com/events/details/first-festival-of-trees-4941
END:VEVENT

END:VCALENDAR
