BEGIN:VCALENDAR
VERSION:2.0
PRODID:-//ChamberMaster//Event Calendar 2.0//EN
METHOD:PUBLISH
X-PUBLISHED-TTL:P3D
REFRESH-INTERVAL:P3D
CALSCALE:GREGORIAN
BEGIN:VEVENT
DTSTART:20160511T133000Z
DTEND:20160511T143000Z
X-MICROSOFT-CDO-ALLDAYEVENT:FALSE
SUMMARY:Chamber 101: Member Orientation
DESCRIPTION:
X-ALT-DESC;FMTTYPE=text/html:
LOCATION:
UID:e.43.4926
SEQUENCE:3
DTSTAMP:20260423T211809Z
URL:https://ottawa-nova25.preview.gochambermaster.com/events/details/chamber-101-member-orientation-05-11-2016-4926
END:VEVENT

END:VCALENDAR
