BEGIN:VCALENDAR
VERSION:2.0
PRODID:-//ChamberMaster//Event Calendar 2.0//EN
METHOD:PUBLISH
X-PUBLISHED-TTL:P3D
REFRESH-INTERVAL:P3D
CALSCALE:GREGORIAN
BEGIN:VEVENT
DTSTART:20150806T123000Z
DTEND:20150806T133000Z
X-MICROSOFT-CDO-ALLDAYEVENT:FALSE
SUMMARY:Business Before Hours sponsored by Heritage Woods of Ottawa
DESCRIPTION:
X-ALT-DESC;FMTTYPE=text/html:
LOCATION:
UID:e.43.4207
SEQUENCE:3
DTSTAMP:20260424T212702Z
URL:https://ottawa-nova25.preview.gochambermaster.com/events/details/business-before-hours-sponsored-by-heritage-woods-of-ottawa-08-06-2015-4207
END:VEVENT

END:VCALENDAR
