BEGIN:VCALENDAR
VERSION:2.0
PRODID:-//ChamberMaster//Event Calendar 2.0//EN
METHOD:PUBLISH
X-PUBLISHED-TTL:P3D
REFRESH-INTERVAL:P3D
CALSCALE:GREGORIAN
BEGIN:VEVENT
DTSTART:20141014T123000Z
DTEND:20141014T133000Z
X-MICROSOFT-CDO-ALLDAYEVENT:FALSE
SUMMARY:All Member Morning Mixer
DESCRIPTION:The Ottawa Area Chamber of Commerce staff\, Board of Directors\, Ambassadors and Member Services Team invite you to join us for coffee and light breakfast bites at the Hampton Inn on Tuesday\, October 14th.\n\nAll Chamber members and friends are welcome to stop in for a casual meet and greet session.\n\nThis is our way of saying "Thank You" for being a member and supporting the Chamber and our programs.  It's also a great opportunity to share thoughts and feedback with your Chamber staff and Member Services Committee.
X-ALT-DESC;FMTTYPE=text/html:The Ottawa Area Chamber of Commerce staff\, Board of Directors\, Ambassadors and Member Services Team invite you to join us for coffee and light breakfast bites at the Hampton Inn on Tuesday\, October 14th.<br />\nAll Chamber members and friends are welcome to stop in for a casual meet and greet session.<br />\nThis is our way of saying &quot\;Thank You&quot\; for being a member and supporting the Chamber and our programs. &nbsp\;It&#39\;s also a great opportunity to share thoughts and feedback with your Chamber staff and Member Services Committee.
LOCATION:Hampton Inn 4115 Holiday Lane\, Ottawa
UID:e.43.4172
SEQUENCE:3
DTSTAMP:20260425T173525Z
URL:https://ottawa-nova25.preview.gochambermaster.com/events/details/all-member-morning-mixer-10-14-2014-4172
END:VEVENT

END:VCALENDAR
